BEGIN:VCALENDAR
VERSION:2.0
PRODID:-//Nordic Academy - ECPv6.15.18//NONSGML v1.0//EN
CALSCALE:GREGORIAN
METHOD:PUBLISH
X-WR-CALNAME:Nordic Academy
X-ORIGINAL-URL:https://www.nordicacademy.gr
X-WR-CALDESC:Events for Nordic Academy
REFRESH-INTERVAL;VALUE=DURATION:PT1H
X-Robots-Tag:noindex
X-PUBLISHED-TTL:PT1H
BEGIN:VTIMEZONE
TZID:Europe/Moscow
BEGIN:STANDARD
TZOFFSETFROM:+0300
TZOFFSETTO:+0300
TZNAME:MSK
DTSTART:20220101T000000
END:STANDARD
END:VTIMEZONE
BEGIN:VEVENT
DTSTART;TZID=Europe/Moscow:20230519T190000
DTEND;TZID=Europe/Moscow:20230519T210000
DTSTAMP:20260423T032155
CREATED:20230509T191136Z
LAST-MODIFIED:20230509T191138Z
UID:3694-1684522800-1684530000@www.nordicacademy.gr
SUMMARY:Författarbesök: Jan Arnald / Arne Dahl
DESCRIPTION:Författarbesök: Jan Arnald / Arne Dahl\n\n\n\n\n\nI och med 4th Crime Fiction Festival i Athen 3-25 maj 2023\, erbjuder Nordic Academy ett intressant möte med en författare som säkert många känner till. \n\n\n\nNi får chansen att möta Jan Arnald\, en svensk roman- och novellförfattare\, litteraturkritiker och litteraturvetare\, internationellt känd deckarförfattare under pseudonymen Arne Dahl. Hans böcker har sålts i mer än 5 miljoner exemplar världen över och har översatts till mer än 32 språk. \n\n\n\nNi kan läsa mer om Jan Arnald/Arne Dahl och böcker han skrivit här: http://arnedahl.net/ och https://www.metaixmio.gr/el/author/arne-dahl \n\n\n\nUnder kvällens möte kommer Jan att berätta för oss om sitt arbete som författare och ni får möjlighet att ställa frågor. Samtalet sker på svenska. \n\n\n\nDet kommer även att hända spännande saker under kvällen som vi inte kan avslöja än men det kommer ha att göra med temat brott på något vis. \n\n\n\nPlats: Svenska kyrkan i Athen  (Sotiros 7\, 105 58 Athens\, Greece) \n\n\n\nNär: Fredagen den 19 maj \n\n\n\nTid: 19.00 – 21.00 \n\n\n\nDeltagare: För att delta måste man vara minst B2+ nivå i svenska \n\n\n\nAnmälan: Det finns ett begränsat antal platser så för att delta måste ni anmäla er genom formuläret \n\n\n\nnedan. \n\n\n\nAnmälan\n\n\n\n\n\n  \n\n\n\nnamn:\n     \nEmail:*
URL:https://www.nordicacademy.gr/events/forfattarbesok-jan-arnald-arne-dahl/
LOCATION:Svenska kyrkan i Aten\, Sotiros 7\, athens\, 105 58\, Greece
CATEGORIES:språkkafe,svenska
ATTACH;FMTTYPE=image/jpeg:https://www.nordicacademy.gr/wp-content/uploads/arnebanner-scaled.jpg
END:VEVENT
END:VCALENDAR