BEGIN:VCALENDAR
VERSION:2.0
PRODID:-//Nordic Academy - ECPv6.15.18//NONSGML v1.0//EN
CALSCALE:GREGORIAN
METHOD:PUBLISH
X-WR-CALNAME:Nordic Academy
X-ORIGINAL-URL:https://www.nordicacademy.gr
X-WR-CALDESC:Events for Nordic Academy
REFRESH-INTERVAL;VALUE=DURATION:PT1H
X-Robots-Tag:noindex
X-PUBLISHED-TTL:PT1H
BEGIN:VTIMEZONE
TZID:Europe/Moscow
BEGIN:STANDARD
TZOFFSETFROM:+0300
TZOFFSETTO:+0300
TZNAME:MSK
DTSTART:20220101T000000
END:STANDARD
END:VTIMEZONE
BEGIN:VEVENT
DTSTART;TZID=Europe/Moscow:20231006T190000
DTEND;TZID=Europe/Moscow:20231006T210000
DTSTAMP:20260422T213349
CREATED:20231003T154026Z
LAST-MODIFIED:20231003T154603Z
UID:4046-1696618800-1696626000@www.nordicacademy.gr
SUMMARY:Fredagsmys
DESCRIPTION:Fredagsmys\n\n\n\n\n\n\n\n\n\n\n\n\n\nΤην Παρασκευή 6 Οκτωβρίου ελάτε για αυθεντικό σουηδικό fredagsmys* στη Σωτήρος 7 στις 19.00 με τον Anders και την Niki.Μπορείτε να δηλώσετε συμμετοχή όσοι είστε μαθητές στα τμήματα μας. \n\n\n\nΩρα: 19:00 – 21:00Τοποθεσία: Σωτήρος 7\, Αθήνα – Πλάκα\, 10558\, Αττικής \n\n\n\n*fredagsmys [fr’e:da(:g)sm’y:s] ουσιαστικό.Φίλοι ή οικογένεια συναντιούνται την Παρασκευή το βράδυ για να χαλαρώσουν και να σηματοδοτήσουν το τέλος της εβδομάδας. Περιλαμβάνει συνήθως κάτι νόστιμο να φας και ταινία/επιτραπέζια παιχνίδια.
URL:https://www.nordicacademy.gr/events/fredagsmys/
LOCATION:Svenska kyrkan i Aten\, Sotiros 7\, athens\, 105 58\, Greece
CATEGORIES:fredagsmys,svenska
ATTACH;FMTTYPE=image/png:https://www.nordicacademy.gr/wp-content/uploads/Fredagsmys-2-2.png
END:VEVENT
END:VCALENDAR