BEGIN:VCALENDAR
VERSION:2.0
PRODID:-//Nordic Academy - ECPv6.15.20//NONSGML v1.0//EN
CALSCALE:GREGORIAN
METHOD:PUBLISH
X-WR-CALNAME:Nordic Academy
X-ORIGINAL-URL:https://www.nordicacademy.gr
X-WR-CALDESC:Events for Nordic Academy
REFRESH-INTERVAL;VALUE=DURATION:PT1H
X-Robots-Tag:noindex
X-PUBLISHED-TTL:PT1H
BEGIN:VTIMEZONE
TZID:Europe/Athens
BEGIN:DAYLIGHT
TZOFFSETFROM:+0200
TZOFFSETTO:+0300
TZNAME:EEST
DTSTART:20240331T010000
END:DAYLIGHT
BEGIN:STANDARD
TZOFFSETFROM:+0300
TZOFFSETTO:+0200
TZNAME:EET
DTSTART:20241027T010000
END:STANDARD
BEGIN:DAYLIGHT
TZOFFSETFROM:+0200
TZOFFSETTO:+0300
TZNAME:EEST
DTSTART:20250330T010000
END:DAYLIGHT
BEGIN:STANDARD
TZOFFSETFROM:+0300
TZOFFSETTO:+0200
TZNAME:EET
DTSTART:20251026T010000
END:STANDARD
BEGIN:DAYLIGHT
TZOFFSETFROM:+0200
TZOFFSETTO:+0300
TZNAME:EEST
DTSTART:20260329T010000
END:DAYLIGHT
BEGIN:STANDARD
TZOFFSETFROM:+0300
TZOFFSETTO:+0200
TZNAME:EET
DTSTART:20261025T010000
END:STANDARD
END:VTIMEZONE
BEGIN:VTIMEZONE
TZID:Europe/Moscow
BEGIN:STANDARD
TZOFFSETFROM:+0300
TZOFFSETTO:+0300
TZNAME:MSK
DTSTART:20210101T000000
END:STANDARD
END:VTIMEZONE
BEGIN:VEVENT
DTSTART;TZID=Europe/Athens:20251017T190000
DTEND;TZID=Europe/Athens:20251017T210000
DTSTAMP:20260426T045958
CREATED:20231102T193316Z
LAST-MODIFIED:20251013T091309Z
UID:4075-1760727600-1760734800@www.nordicacademy.gr
SUMMARY:Språkkafé 17 oktober
DESCRIPTION:Språkkafé 17 oktober\n\n\n\n\n\n \n\n\n\nΚαλώς ήρθατε στο πρώτο “Språkkafe” αυτού του φθινοπώρου! \n\n\n\nΠαρασκευή 17 Οκτωβρίου\, 19:00 – 21:00\, σας προσκαλούμε όλους τους μαθητές\, ανεξάρτητα από το επίπεδό σας (Α1 – C2)\, σε μια βραδιά με σουηδική μουσική. \n\n\n\nΘέμα της βραδιάς: Σουηδική μουσικήΘα ακούμε σουηδικά τραγούδια και θα συμμετέχουμε σε διασκεδαστικές δραστηριότητες γύρω από τη μουσική. Μια τέλεια και χαλαρή ευκαιρία να εξασκηθείτε στα σουηδικά! \n\n\n\nΗ εκδήλωση θα πραγματοποιηθεί στο χώρo μας\, στη διεύθυνση:Απόλλωνος 6\, Αθήνα 105 57 \n\n\n\nΌλοι είναι ευπρόσδεκτοι! \n\n\n\nΠροκειμένου να συμμετέχετε\, θα πρέπει να εγγραφείτε μέσω της παρακάτω φόρμας: \n\n\n\n\n  \n\n\n\nΌνομα:\n     \nΕπώνυμο:\n     \n\nEmail:*
URL:https://www.nordicacademy.gr/events/sprakkafe-17-oktober/
CATEGORIES:språkkafe,svenska
ATTACH;FMTTYPE=image/jpeg:https://www.nordicacademy.gr/wp-content/uploads/mink-mingle-HRyjETL87Gg-unsplash.jpg
END:VEVENT
BEGIN:VEVENT
DTSTART;TZID=Europe/Moscow:20250314T190000
DTEND;TZID=Europe/Moscow:20250314T210000
DTSTAMP:20260426T045958
CREATED:20250310T163213Z
LAST-MODIFIED:20250313T071300Z
UID:5626-1741978800-1741986000@www.nordicacademy.gr
SUMMARY:Språkkafe: Sagan om Pireuslejonet
DESCRIPTION:Η εκδήλωση αυτή έχει ακυρωθεί λόγω ανεπαρκούς αριθμού συμμετεχόντων. Εσείς που επιθυμείτε ακόμα να μάθετε περισσότερα για το βιβλίο “Το Λιοντάρι του Πειραιά” (Sagan om Pireuslejonet)\, μπορείτε να συμμετάσχετε στην εκδήλωση του Σουηδικού Ινστιτούτου στην Αθήνα τη Δευτέρα 17 Μαρτίου. Διαβάστε περισσότερα εδώ. https://www.sia.gr/sv/events.php?eid=475&date=2025-03-17 \n\n\n\n \n\n\n\n\n\n\n\n\n\n\n\n \n\n\n\n \n\n\n\n\n\nSpråkkafé: Sagan om Pireuslejonet\n\n\n\nFredagen den 14 mars så håller Nordic Academy ett språkkafé som kommer handla om boken Sagan om Pireuslejonet. Boken är skriven av Erik Magntorn och illustrerad av Martina Castoriano. De kommer att berätta om sin bok och vi får också lära oss historien om runinskriften som gjordes av vikingarna när statyn stod i Athens hamnstad Pireus. \n\n\n\n \n\n\n\nKvällen kommer även erbjuda aktiviteter relaterade till runor.ᛋᚢᛁᚦᛁᚬᚦ = Svíþjóðforntida namnet för Sverige under vikingatiden skrivet med runskrift. \n\n\n\nErik Magntorn är barnboksförfattare\, förläggar och arkeolog. Martine Castoriano är barnboksillustratör\, konstnär\, antikvetare och bibliotekarie. Tillsammans skapar de fantasifulla verk som på ett lekfullt sätt engagerar små och stora i världens historia. \n\n\n\nPresentationen kommer ske på svenska och det krävs B2 nivå för att delta.
URL:https://www.nordicacademy.gr/events/sprakkafe-sagan-om-pireuslejonet/
LOCATION:Nordic Academy\, Απόλλωνος 6\, Αθήνα\, 10557\,\, Greece
CATEGORIES:språkkafe,svenska
ATTACH;FMTTYPE=image/jpeg:https://www.nordicacademy.gr/wp-content/uploads/piraeuslejonet.jpg
END:VEVENT
BEGIN:VEVENT
DTSTART;TZID=Europe/Moscow:20240215T193000
DTEND;TZID=Europe/Moscow:20240215T235959
DTSTAMP:20260426T045958
CREATED:20240211T083416Z
LAST-MODIFIED:20240211T090052Z
UID:4253-1708025400-1708041599@www.nordicacademy.gr
SUMMARY:Παρουσίαση του βιβλίου "NEKOB" του Γιαν Χένρικ Σβαν
DESCRIPTION:Παρουσίαση του βιβλίου “NEKOB” του Γιαν Χένρικ Σβαν\n\n\n\n \n\n\n\n\n\nΟ Jan Henrik Christer Swahn (γεννημένος 1 Αυγούστου 1959) είναι Σουηδός συγγραφέας και μεταφραστής από τα Δανικά\, Γαλλικά\, Πολωνικά και Ελληνικά. \n\n\n\nΟ Jan Henrik έχει μεταφράσει στα Σουηδικά τα βιβλία της Olga Tokarscuk\, που έλαβε το βραβείο Nobel το 2018. \n\n\n\nΈχει δημοσιεύσει δεκατρία μυθιστορήματα\, το βιβλίο  Ο Αυτός που ζει είναι ελεύθερος  με τον Felix Swahn\, και τη συλλογή διηγημάτων The Rat in the Head. \n\n\n\nΘα μιλήσει για το βιβλίο του NEKOB\, μεταφρασμένο από τα Σουηδικά την Πέμπτη 15 Φεβρουαρίου στο Zatopek book cafe. \n\n\n\nhttps://www.facebook.com/zatopek.bookcafe/
URL:https://www.nordicacademy.gr/events/%cf%80%ce%b1%cf%81%ce%bf%cf%85%cf%83%ce%af%ce%b1%cf%83%ce%b7-%cf%84%ce%bf%cf%85-%ce%b2%ce%b9%ce%b2%ce%bb%ce%af%ce%bf%cf%85-nekob-%cf%84%ce%bf%cf%85-%ce%b3%ce%b9%ce%b1%ce%bd-%cf%87%ce%ad%ce%bd/
CATEGORIES:svenska
ATTACH;FMTTYPE=image/jpeg:https://www.nordicacademy.gr/wp-content/uploads/zapotek.jpg
END:VEVENT
BEGIN:VEVENT
DTSTART;TZID=Europe/Moscow:20231006T190000
DTEND;TZID=Europe/Moscow:20231006T210000
DTSTAMP:20260426T045958
CREATED:20231003T154026Z
LAST-MODIFIED:20231003T154603Z
UID:4046-1696618800-1696626000@www.nordicacademy.gr
SUMMARY:Fredagsmys
DESCRIPTION:Fredagsmys\n\n\n\n\n\n\n\n\n\n\n\n\n\nΤην Παρασκευή 6 Οκτωβρίου ελάτε για αυθεντικό σουηδικό fredagsmys* στη Σωτήρος 7 στις 19.00 με τον Anders και την Niki.Μπορείτε να δηλώσετε συμμετοχή όσοι είστε μαθητές στα τμήματα μας. \n\n\n\nΩρα: 19:00 – 21:00Τοποθεσία: Σωτήρος 7\, Αθήνα – Πλάκα\, 10558\, Αττικής \n\n\n\n*fredagsmys [fr’e:da(:g)sm’y:s] ουσιαστικό.Φίλοι ή οικογένεια συναντιούνται την Παρασκευή το βράδυ για να χαλαρώσουν και να σηματοδοτήσουν το τέλος της εβδομάδας. Περιλαμβάνει συνήθως κάτι νόστιμο να φας και ταινία/επιτραπέζια παιχνίδια.
URL:https://www.nordicacademy.gr/events/fredagsmys/
LOCATION:Svenska kyrkan i Aten\, Sotiros 7\, athens\, 105 58\, Greece
CATEGORIES:fredagsmys,svenska
ATTACH;FMTTYPE=image/png:https://www.nordicacademy.gr/wp-content/uploads/Fredagsmys-2-2.png
END:VEVENT
BEGIN:VEVENT
DTSTART;TZID=Europe/Moscow:20230519T190000
DTEND;TZID=Europe/Moscow:20230519T210000
DTSTAMP:20260426T045958
CREATED:20230509T191136Z
LAST-MODIFIED:20230509T191138Z
UID:3694-1684522800-1684530000@www.nordicacademy.gr
SUMMARY:Författarbesök: Jan Arnald / Arne Dahl
DESCRIPTION:Författarbesök: Jan Arnald / Arne Dahl\n\n\n\n\n\nI och med 4th Crime Fiction Festival i Athen 3-25 maj 2023\, erbjuder Nordic Academy ett intressant möte med en författare som säkert många känner till. \n\n\n\nNi får chansen att möta Jan Arnald\, en svensk roman- och novellförfattare\, litteraturkritiker och litteraturvetare\, internationellt känd deckarförfattare under pseudonymen Arne Dahl. Hans böcker har sålts i mer än 5 miljoner exemplar världen över och har översatts till mer än 32 språk. \n\n\n\nNi kan läsa mer om Jan Arnald/Arne Dahl och böcker han skrivit här: http://arnedahl.net/ och https://www.metaixmio.gr/el/author/arne-dahl \n\n\n\nUnder kvällens möte kommer Jan att berätta för oss om sitt arbete som författare och ni får möjlighet att ställa frågor. Samtalet sker på svenska. \n\n\n\nDet kommer även att hända spännande saker under kvällen som vi inte kan avslöja än men det kommer ha att göra med temat brott på något vis. \n\n\n\nPlats: Svenska kyrkan i Athen  (Sotiros 7\, 105 58 Athens\, Greece) \n\n\n\nNär: Fredagen den 19 maj \n\n\n\nTid: 19.00 – 21.00 \n\n\n\nDeltagare: För att delta måste man vara minst B2+ nivå i svenska \n\n\n\nAnmälan: Det finns ett begränsat antal platser så för att delta måste ni anmäla er genom formuläret \n\n\n\nnedan. \n\n\n\nAnmälan\n\n\n\n\n\n  \n\n\n\nnamn:\n     \nEmail:*
URL:https://www.nordicacademy.gr/events/forfattarbesok-jan-arnald-arne-dahl/
LOCATION:Svenska kyrkan i Aten\, Sotiros 7\, athens\, 105 58\, Greece
CATEGORIES:språkkafe,svenska
ATTACH;FMTTYPE=image/jpeg:https://www.nordicacademy.gr/wp-content/uploads/arnebanner-scaled.jpg
END:VEVENT
BEGIN:VEVENT
DTSTART;TZID=Europe/Moscow:20230127T183000
DTEND;TZID=Europe/Moscow:20230127T203000
DTSTAMP:20260426T045958
CREATED:20230117T105008Z
LAST-MODIFIED:20230117T163115Z
UID:3264-1674844200-1674851400@www.nordicacademy.gr
SUMMARY:Fredagsmys 27 januari
DESCRIPTION:Fredagsmys 27 januari\n\n\n\nΤην Παρασκευή 27 Ιανουαρίου ελάτε για αυθεντικό σουηδικό fredagsmys* στο Σωτήρος 7 στις 18.30 με τον Άντερς και την Άρτεμις.  \n\n\n\nΜπορείτε να δηλώσετε συμμετοχή όσοι είστε μαθητές στα τμήματα μας. \n\n\n\nΩρα: 18:30 – 20:30 \n\n\n\nΕίσοδος : 5 ευρώ \n\n\n\nΤοποθεσία: Σωτήρος 7\, Αθήνα – Πλάκα\, 10558\, Αττικής  \n\n\n\n*fredagsmys [fr’e:da(:g)sm’y:s] ουσιαστικό. Φίλοι ή οικογένεια συναντιούνται την Παρασκευή το βράδυ για να χαλαρώσουν και να σηματοδοτήσουν το τέλος της εβδομάδας. Περιλαμβάνει συνήθως κάτι νόστιμο να φας και ταινία/επιτραπέζια παιχνίδια.  \n\n\n\n\n\nΕγγραφή\n\n\n\n\n\n\n\n\n\n  \n\n\n\nΟνοματεπώνυμο\n     \n\nEmail
URL:https://www.nordicacademy.gr/events/fredagsmys-27-januari/
CATEGORIES:fredagsmys,svenska
ATTACH;FMTTYPE=image/jpeg:https://www.nordicacademy.gr/wp-content/uploads/mys.jpg
END:VEVENT
BEGIN:VEVENT
DTSTART;TZID=Europe/Moscow:20221125T190000
DTEND;TZID=Europe/Moscow:20221125T210000
DTSTAMP:20260426T045958
CREATED:20221113T084408Z
LAST-MODIFIED:20221123T200135Z
UID:2721-1669402800-1669410000@www.nordicacademy.gr
SUMMARY:Språkkafé 25 november 2022
DESCRIPTION:Språkkafé 25 november 2022\n\n\n\n\n\n\n\n\n\nVi får återigen besök av barnboksförfattaren Erik Magntorn och illustratören Martine Castoriano. Dekommer och berättar om sin nya bok om Asine. \n\n\n\nSagan om Asine är en bilderbok om en arkelogiskutgrävning här i Grekland och som skildrar 100 år av arkeologiskt detektivarbete. \n\n\n\nKom och lyssna och ställ frågor till Erik om hans författande och till Martine om hennes vackraillustrationer. Vi samtalar om skapande och tar ett glas vin eller en fika tillsammans. \n\n\n\nSamtalet kommer att föras på svenska\, så det krävs en språknivå på B2- och uppåt. \n\n\n\nAnmälan senast 24 november\n\n\n\n\n  \n\n\n\nΌνομα:\n     \nΕπώνυμο:\n     \n\nEmail:*
URL:https://www.nordicacademy.gr/events/sprakkafe-25-november-2022/
LOCATION:Svenska kyrkan i Aten\, Sotiros 7\, athens\, 105 58\, Greece
CATEGORIES:språkkafe,svenska
ATTACH;FMTTYPE=image/jpeg:https://www.nordicacademy.gr/wp-content/uploads/sagan-om-asine-hundra-ar-av-arkeologi.jpg
END:VEVENT
END:VCALENDAR