BEGIN:VCALENDAR
VERSION:2.0
PRODID:-//Nordic Academy - ECPv6.15.20//NONSGML v1.0//EN
CALSCALE:GREGORIAN
METHOD:PUBLISH
X-ORIGINAL-URL:https://www.nordicacademy.gr
X-WR-CALDESC:Events for Nordic Academy
REFRESH-INTERVAL;VALUE=DURATION:PT1H
X-Robots-Tag:noindex
X-PUBLISHED-TTL:PT1H
BEGIN:VTIMEZONE
TZID:Europe/Moscow
BEGIN:STANDARD
TZOFFSETFROM:+0300
TZOFFSETTO:+0300
TZNAME:MSK
DTSTART:20230101T000000
END:STANDARD
END:VTIMEZONE
BEGIN:VEVENT
DTSTART;TZID=Europe/Moscow:20240207T000000
DTEND;TZID=Europe/Moscow:20240207T235959
DTSTAMP:20260426T002231
CREATED:20240202T075356Z
LAST-MODIFIED:20240202T101352Z
UID:4210-1707264000-1707350399@www.nordicacademy.gr
SUMMARY:Webinar 7 Φεβρουαρίου
DESCRIPTION:Credits: Patrik Svedberg/imagebank.sweden.se\n\n\n\n\n\n\n\nWebinar 7 Φεβρουαρίου\n\n\n\n\n\nΗ Nordic Academy πραγματοποιεί ένα διαδικτυακό σεμινάριο σε συνεργασία με το γραφείο ευρέσεως εργασίας στη Σουηδία (Arbetsförmedlingen) και EURES (EURopean Employment Services).  \n\n\n\nΕάν σχεδιάζετε να εργαστείτε στη Σουηδία στο άμεσο μέλλον\, έχετε την δυνατότητα να αιτηθείτε χρηματοδότηση για τα μαθήματα σουηδικής γλώσσας στην Nordic Academy.  \n\n\n\nΤο σεμινάριο θα περιέχει πληροφορίες για την εργασία και τη ζωή στη Σουηδία\, πληροφορίες για για τις θέσεις εργασίας που έχουν ζήτηση στη Σουηδία\, το πρόγραμμα EURES Targeted Mobility Scheme και επίσης πιο στοχευμένες πληροφορίες για όσους από εσάς εργάζεστε στον τομέα της υγείας.  \n\n\n\nΤο διαδικτυακό σεμινάριο θα πραγματοποιηθεί στις 7 Φεβρουαρίου το μεσημέρι (15:00-16:00) και το βράδυ της ίδιας ημέρας (20:00-21:00). θα έχετε την ευκαιρία να μιλήσετε και να κάνετε ερωτήσεις απευθείας στην Pia Nilsson που είναι Eures Advisor γραφείο ευρέσεως εργασίας στη Σουηδία και την Elisabeth Hagsten\, η οποία είναι Υπάλληλος προσλήψεων στο Karolinska Universtitetsjukhuset\, Stockholm.  \n\n\n\nΤο διαδικτυακό σεμινάριο θα πραγματοποιηθεί στα αγγλικά.  \n\n\n\nΑπαιτείται εγγραφή \n\n\n\nΣε συνεργασία με: \n\n\n\n\n\n\n\n\n\n\n\n\n\n\n\n\n\n\n\n\nΕγγραφή Webinar \n\n\n\nΤο διαδικτυακό σεμινάριο θα πραγματοποιηθεί στα αγγλικά.  \n\n\n\n\n  \n\n\n\n Ονοματεπώνυμο*\n \n\n Email*\n     \n\n Κλάδος εργασίας*\n—Please choose an option—ΥγείαΆλλο \n\n Συμπληρώστε τον κλάδο εργασίας στον οποίο ανήκετε\n     \n\n\n Ώρα*\n—Please choose an option—15.00-16.0020.00-21.00 \n\n Το μήνυμά σου:
URL:https://www.nordicacademy.gr/events/webinar-7-%cf%86%ce%b5%ce%b2%cf%81%ce%bf%cf%85%ce%b1%cf%81%ce%af%ce%bf%cf%85/
CATEGORIES:webinar
ATTACH;FMTTYPE=image/jpeg:https://www.nordicacademy.gr/wp-content/uploads/luftballong.jpg
END:VEVENT
END:VCALENDAR